BEGIN:VCALENDAR
VERSION:2.0
PRODID:-//Maturango Museum - ECPv6.15.20//NONSGML v1.0//EN
CALSCALE:GREGORIAN
METHOD:PUBLISH
X-ORIGINAL-URL:https://maturango.org
X-WR-CALDESC:Events for Maturango Museum
REFRESH-INTERVAL;VALUE=DURATION:PT1H
X-Robots-Tag:noindex
X-PUBLISHED-TTL:PT1H
BEGIN:VTIMEZONE
TZID:America/Los_Angeles
BEGIN:DAYLIGHT
TZOFFSETFROM:-0800
TZOFFSETTO:-0700
TZNAME:PDT
DTSTART:20240310T100000
END:DAYLIGHT
BEGIN:STANDARD
TZOFFSETFROM:-0700
TZOFFSETTO:-0800
TZNAME:PST
DTSTART:20241103T090000
END:STANDARD
BEGIN:DAYLIGHT
TZOFFSETFROM:-0800
TZOFFSETTO:-0700
TZNAME:PDT
DTSTART:20250309T100000
END:DAYLIGHT
BEGIN:STANDARD
TZOFFSETFROM:-0700
TZOFFSETTO:-0800
TZNAME:PST
DTSTART:20251102T090000
END:STANDARD
BEGIN:DAYLIGHT
TZOFFSETFROM:-0800
TZOFFSETTO:-0700
TZNAME:PDT
DTSTART:20260308T100000
END:DAYLIGHT
BEGIN:STANDARD
TZOFFSETFROM:-0700
TZOFFSETTO:-0800
TZNAME:PST
DTSTART:20261101T090000
END:STANDARD
END:VTIMEZONE
BEGIN:VEVENT
DTSTART;TZID=America/Los_Angeles:20250215T090000
DTEND;TZID=America/Los_Angeles:20250215T170000
DTSTAMP:20260422T022147
CREATED:20250121T224342Z
LAST-MODIFIED:20250124T232335Z
UID:100580-1739610000-1739638800@maturango.org
SUMMARY:Searles Valley Historical Society Museums Field Trip
DESCRIPTION:Searles Valley Historical Society Museums Field Trip Saturday\,  February 15\nHave you ever driven through Trona on your way to someplace else\, passing all the wonderful museums and wished you could stop and take a look? I know I have thought about it\, but it can sometimes be hard to do spur of the moment since several of the museum buildings are open by appointment only. Guess what? We’ve made those appointments for this trip. \nCome with us to the Searles Valley Historical Society Museums. We’ll be visiting the Fire Museum\, History House\, Trona Railway Museum and Caboose\, and the Old Guest House Museum. Docents will be on-hand at each location to guide us through their rich history and their exhibits. Want to peruse at your own pace? You can do that as well during the time we are at each area. \nOur journey will start at the Maturango Museum and we’ll drive over to Trona through Poison Canyon. Oh by the way\, did you know that the “real name” of Poison Canyon is Salt Wells Canyon? I didn’t. I’ve already learned something. \nWe’ll make a brief stop at the Trona Pinnacles turn-off to view two monuments; John Searles’ Freight Wagon Route Monument and the Epsom Salts Monorail Monument. If you want to learn more about the Epsom Salts Monorail\, Maturango Museum has a great book on this subject. \n  From there we’ll continue to the Fire Museum. Inside this museum are two antique fire engines\, a 1924 Stutz and a 1938 Ahren-Fox. Displays in the Fire Museum include 20 photographs of major fires in Argus\, Borosolvay\, and Trona and other fire memorabilia. \n We’ll then make a quick stop at the Trona Rest Stop to take care of business and proceed to the History House\, Caboose\, and Railway Museum. \nThe History House is one of the oldest residential houses in Trona (built around 1920) and is a treasure trove of items from yesteryear. The Trona Railway Museum displays artifacts from the Trona Railway and the Caboose will be open to those able to navigate the steep stairs to get in and out. \n We will then return to the Trona Rest Stop for lunch. The kiosk at the Rest Stop was a joint project of the BLM Ridgecrest Office and the Searles Valley Historical Society. There \nare 16 panels that have information about the local area\, local mining\, local history\, sightseeing and recreational opportunities\, and desert safety. \nAfter lunch we’ll head to our final stop\, the Old Guest House Museum. This building was built around 1917 and is one of the oldest buildings in \nSearles Valley. Originally it was built as four apartments and was remodeled as a guest house with twelve rooms for visitors to Trona. The twelve rooms \nshow events in Searles Valley from the early mining days to the present plant ownership. Since this is our final stop\, once you have finished viewing all the cool “stuff”\, you can head home\, we just ask that you let the Field Trip leader know you are leaving. \n9am: Meet at the Maturango Museum for check-in. Participants will be required to sign a liability waiver. Car caravan will be organized and for those that want to carpool\, we’ll figure it out there. \nThe cost is $25 for museum members ($40 for 2 adult members)\, $30 for nonmembers ($50 for 2 adults). Pets are not allowed. Buy tickets below or come to the Maturango Museum Store. \nBe sure you have enough gas (less than 100 miles round trip)\, car\, and tires in good running order. Usual dress code for field trips applies: hat\, sunscreen\, comfortable walking shoes\, layered clothing\, \nwater\, and camera (although some of the buildings ask for no photographs). It is better to have these items and not need them than need them and not have them. \nBring a picnic lunch to eat while we are at the Trona Rest Stop or in the Archives in the case of inclement weather. \nCancellation Policy: If the Museum cancels your trip\, you will be given a full refund or you may transfer the money\nto a different trip. No cash refunds will be given if you cancel.
URL:https://maturango.org/event/searles-valley-historical-society-museums-field-trip-2/
LOCATION:Maturango Museum\, 100 E Las Flores Ave\, Ridgecrest\, CA\, 93555\, United States
CATEGORIES:Tours and Trips
ATTACH;FMTTYPE=image/jpeg:https://maturango.org/wp-content/uploads/2024/01/Searles-Valley-2-rotated.jpg
ORGANIZER;CN="Maturango Museum":MAILTO:info@maturango.org
END:VEVENT
END:VCALENDAR