BEGIN:VCALENDAR
VERSION:2.0
PRODID:-//Maturango Museum - ECPv6.15.20//NONSGML v1.0//EN
CALSCALE:GREGORIAN
METHOD:PUBLISH
X-WR-CALNAME:Maturango Museum
X-ORIGINAL-URL:https://maturango.org
X-WR-CALDESC:Events for Maturango Museum
REFRESH-INTERVAL;VALUE=DURATION:PT1H
X-Robots-Tag:noindex
X-PUBLISHED-TTL:PT1H
BEGIN:VTIMEZONE
TZID:America/Los_Angeles
BEGIN:DAYLIGHT
TZOFFSETFROM:-0800
TZOFFSETTO:-0700
TZNAME:PDT
DTSTART:20240310T100000
END:DAYLIGHT
BEGIN:STANDARD
TZOFFSETFROM:-0700
TZOFFSETTO:-0800
TZNAME:PST
DTSTART:20241103T090000
END:STANDARD
BEGIN:DAYLIGHT
TZOFFSETFROM:-0800
TZOFFSETTO:-0700
TZNAME:PDT
DTSTART:20250309T100000
END:DAYLIGHT
BEGIN:STANDARD
TZOFFSETFROM:-0700
TZOFFSETTO:-0800
TZNAME:PST
DTSTART:20251102T090000
END:STANDARD
BEGIN:DAYLIGHT
TZOFFSETFROM:-0800
TZOFFSETTO:-0700
TZNAME:PDT
DTSTART:20260308T100000
END:DAYLIGHT
BEGIN:STANDARD
TZOFFSETFROM:-0700
TZOFFSETTO:-0800
TZNAME:PST
DTSTART:20261101T090000
END:STANDARD
END:VTIMEZONE
BEGIN:VEVENT
DTSTART;TZID=America/Los_Angeles:20250328T100000
DTEND;TZID=America/Los_Angeles:20250330T160000
DTSTAMP:20260422T001124
CREATED:20250129T004013Z
LAST-MODIFIED:20250326T192546Z
UID:100640-1743156000-1743350400@maturango.org
SUMMARY:Wildflower Exhibit
DESCRIPTION:Maturango Museum’s Annual Wildflower Exhibit 2025 \nFriday\, March 28 – Sunday\, March 30. \nOpen 10 am – 5 pm\, Friday & Saturday\, and noon to 4 pm on Sunday. \n  \nThe Wildflower Exhibit features wildflowers that grow in and around Ridgecrest\, including eastern Sierra canyons. We concentrate on the watershed areas that feed into the Indian Wells Valley. Even though this year is dry\, we expect blooms somewhere in our large collecting area\, most likely at higher elevations where cooler temperatures and moisture linger in protected microclimates. We expect perennial shrubs with deeper root systems to bloom by late March. A microscope will be available for visitors to look at parts of flowers. You may even see an insect on the plant! \nAlso\, we’ll be hosting two speakers and three workshops over the three-day event. \nFriday\, March 28 from 1 pm – 3 pm\, the Oasis Garden Club is hosting a “Flower Arrangement Workshop”. This event will include garden plants grown by club members to be used in the flower arrangement. \nFriday at 6:30 pm\, Glenn Harris will present\, “Climate and Vegetation.” Glenn is a retired BLM employee who specialized in Botany\, soils\, Water Resources\, Hydrology\, Air Quality\, Range Management\, and Fire Management. He currently volunteers as a docent for the Museum. \nSaturday\, March 29\, at 1 pm\, Andrea Pelch will talk about “Mesquite Pods and Cactus Pads – Food from the Desert.” Andrea will give a presentation and interactive demonstrations to learn about the nutritious qualities of Mesquite pod flour and nopals (cactus pads).  The display table will also include other local\, edible wild foods\, and a few surprises. YES! – there will be samples of items to taste during the presentation. \nSaturday\, March 29\, at 3 pm\, Rachel Tageant\, gives her presentation on\, “A Floristic Inventory of the Owens River Headwater area\, Mono County\, California.” Rachel is a grad student at Claremont Graduate University and the California Botanic Garden\, and her floristic study area is the Owens River Headwater Wilderness Area\, which is on the east side of the crest of the Sierra Nevada Mountains between Mammoth Lakes and June Lake. Congress designated this area as a Wilderness Area in 2009. \n  \nSunday\, March 30\, at 1 pm\, the Maturango Museum is hosting a workshop titled\, “Learn the Parts of a Flower.” This workshop examines the different parts of the flower by removing the leaves and flower parts for closer examination. \n  \nMaturango Museum\, 100 E Las Flores Ave\, Ridgecrest\, CA  93555  www.maturango.org \nSpecial Event  $2.00 per person.
URL:https://maturango.org/event/wildflower-exhibit/
LOCATION:Maturango Museum Coso Room\, 100 E Las Flores Ave\, Ridgecrest\, CA\, 93555\, United States
ATTACH;FMTTYPE=image/jpeg:https://maturango.org/wp-content/uploads/2025/01/IMG_2716.jpg
ORGANIZER;CN="Maturango Museum":MAILTO:info@maturango.org
END:VEVENT
BEGIN:VEVENT
DTSTART;TZID=America/Los_Angeles:20250329T150000
DTEND;TZID=America/Los_Angeles:20250329T170000
DTSTAMP:20260422T001124
CREATED:20250220T202737Z
LAST-MODIFIED:20250220T202749Z
UID:100746-1743260400-1743267600@maturango.org
SUMMARY:A Floristic Inventory of the Owens River Headwater Area\, Mono County\, California with Rachel Tageant
DESCRIPTION:Rachel Tageant presents\, “A Floristic Inventory of the Owens River Headwater Area\, Mono\nCounty\, California”.\nRachel Tageant\, a master’s student studying Botany at Claremont Graduate University and the\nCalifornia Botanic Garden\, will present her research in the Owens River Headwater Area on\nSaturday\, March 29\, at 3 PM. The Owens River Headwaters Area is approximately 140km 2\n(54mi 2 ) and has an elevational range between 2\,213m (7\,259ft) and 3\,536m (11\,600ft). The\nstudy area is situated in a region of forested mountains and alpine meadows on the eastern\nside of the Sierra Nevada Mountains\, between June Lake and Mammoth Lakes\, California. Her\nstudy area includes the Owens River Headwaters Wilderness\, Ansel Adams Wilderness area\,\nand surrounding Inyo National Forest Land. Her presentation focuses on the plants of this area.
URL:https://maturango.org/event/a-floristic-inventory-of-the-owens-river-headwater-area-mono-county-california-with-rachel-tageant/
LOCATION:Maturango Museum Coso Room\, 100 E Las Flores Ave\, Ridgecrest\, CA\, 93555\, United States
ORGANIZER;CN="Maturango Museum":MAILTO:info@maturango.org
END:VEVENT
END:VCALENDAR