BEGIN:VCALENDAR
VERSION:2.0
PRODID:-//Maturango Museum - ECPv6.15.20//NONSGML v1.0//EN
CALSCALE:GREGORIAN
METHOD:PUBLISH
X-ORIGINAL-URL:https://maturango.org
X-WR-CALDESC:Events for Maturango Museum
REFRESH-INTERVAL;VALUE=DURATION:PT1H
X-Robots-Tag:noindex
X-PUBLISHED-TTL:PT1H
BEGIN:VTIMEZONE
TZID:America/Los_Angeles
BEGIN:DAYLIGHT
TZOFFSETFROM:-0800
TZOFFSETTO:-0700
TZNAME:PDT
DTSTART:20240310T100000
END:DAYLIGHT
BEGIN:STANDARD
TZOFFSETFROM:-0700
TZOFFSETTO:-0800
TZNAME:PST
DTSTART:20241103T090000
END:STANDARD
BEGIN:DAYLIGHT
TZOFFSETFROM:-0800
TZOFFSETTO:-0700
TZNAME:PDT
DTSTART:20250309T100000
END:DAYLIGHT
BEGIN:STANDARD
TZOFFSETFROM:-0700
TZOFFSETTO:-0800
TZNAME:PST
DTSTART:20251102T090000
END:STANDARD
BEGIN:DAYLIGHT
TZOFFSETFROM:-0800
TZOFFSETTO:-0700
TZNAME:PDT
DTSTART:20260308T100000
END:DAYLIGHT
BEGIN:STANDARD
TZOFFSETFROM:-0700
TZOFFSETTO:-0800
TZNAME:PST
DTSTART:20261101T090000
END:STANDARD
BEGIN:DAYLIGHT
TZOFFSETFROM:-0800
TZOFFSETTO:-0700
TZNAME:PDT
DTSTART:20270314T100000
END:DAYLIGHT
BEGIN:STANDARD
TZOFFSETFROM:-0700
TZOFFSETTO:-0800
TZNAME:PST
DTSTART:20271107T090000
END:STANDARD
END:VTIMEZONE
BEGIN:VEVENT
DTSTART;VALUE=DATE:20250920
DTEND;VALUE=DATE:20260101
DTSTAMP:20260421T064904
CREATED:20250920T205417Z
LAST-MODIFIED:20250920T210131Z
UID:102907-1758326400-1767225599@maturango.org
SUMMARY:Maturango Status Presentation 2025
DESCRIPTION:Maturango Status Presentation 9-19-25
URL:https://maturango.org/event/maturango-status-presentation-2025/
ATTACH;FMTTYPE=image/jpeg:https://maturango.org/wp-content/uploads/2025/02/IMG_6622.jpg
END:VEVENT
BEGIN:VEVENT
DTSTART;TZID=America/Los_Angeles:20251102T080000
DTEND;TZID=America/Los_Angeles:20260111T170000
DTSTAMP:20260421T064904
CREATED:20251031T220740Z
LAST-MODIFIED:20251101T151439Z
UID:103310-1762070400-1768150800@maturango.org
SUMMARY:Ray Wood's "Singing DAX/Instagram Girl"
DESCRIPTION:Gallery Exhibit\nAfter 40 years\, Wood is back with another solo show at the Maturango Museum to share his paintings of models and actresses from around the world posing by request with his dog “DAX” \nDAX is half black labrador retriever and bloodhound and loves to sing and fluctuate his voice to TV programs and music. DAX made his debut singing on Instagram about 2 years ago and Wood discovered people not only loved DAX for his singing ability but also his charm and the way he would interact with people. As time went on\, models from around the world asked to be painted with DAX and things began to take off. Singing DAX is now a household name on Instagram and people ask to be painted with him daily. \nDAX usually poses with models\, but in his time off\, he has models wearing his Singing DAX hat or his logo in the paintings. Wood discovered that art is an excellent way to bring people together and gives them a common ground to discover each other and their cultures. DAX now has over 750 followers from around the world and not only brings a positive message to people enjoying beautiful models but also a subliminal message with a little humor. \nInstagram is an excellent forum for artists because it allows them to get immediate feedback and stimulates good positive conversation. Posting paintings daily on Instagram with music has also been very inspirational and has motivated Wood to do hundreds of paintings. By allowing everyone to translate easily it enables people from around the world to be able to communicate freely and feel comfortable while talking with one another. \nPlease enjoy the show and you can always enjoy seeing DAX on Instagram @ singingdax \n 
URL:https://maturango.org/event/ray-woods-singing-dax-instagram-girl/
ATTACH;FMTTYPE=image/jpeg:https://maturango.org/wp-content/uploads/2025/11/IMG_9167-3.jpg
END:VEVENT
END:VCALENDAR