BEGIN:VCALENDAR
VERSION:2.0
PRODID:-//Maturango Museum - ECPv6.15.20//NONSGML v1.0//EN
CALSCALE:GREGORIAN
METHOD:PUBLISH
X-WR-CALNAME:Maturango Museum
X-ORIGINAL-URL:https://maturango.org
X-WR-CALDESC:Events for Maturango Museum
REFRESH-INTERVAL;VALUE=DURATION:PT1H
X-Robots-Tag:noindex
X-PUBLISHED-TTL:PT1H
BEGIN:VTIMEZONE
TZID:America/Los_Angeles
BEGIN:DAYLIGHT
TZOFFSETFROM:-0800
TZOFFSETTO:-0700
TZNAME:PDT
DTSTART:20250309T100000
END:DAYLIGHT
BEGIN:STANDARD
TZOFFSETFROM:-0700
TZOFFSETTO:-0800
TZNAME:PST
DTSTART:20251102T090000
END:STANDARD
BEGIN:DAYLIGHT
TZOFFSETFROM:-0800
TZOFFSETTO:-0700
TZNAME:PDT
DTSTART:20260308T100000
END:DAYLIGHT
BEGIN:STANDARD
TZOFFSETFROM:-0700
TZOFFSETTO:-0800
TZNAME:PST
DTSTART:20261101T090000
END:STANDARD
BEGIN:DAYLIGHT
TZOFFSETFROM:-0800
TZOFFSETTO:-0700
TZNAME:PDT
DTSTART:20270314T100000
END:DAYLIGHT
BEGIN:STANDARD
TZOFFSETFROM:-0700
TZOFFSETTO:-0800
TZNAME:PST
DTSTART:20271107T090000
END:STANDARD
END:VTIMEZONE
BEGIN:VEVENT
DTSTART;TZID=America/Los_Angeles:20260118T120000
DTEND;TZID=America/Los_Angeles:20260304T170000
DTSTAMP:20260421T031502
CREATED:20260113T185414Z
LAST-MODIFIED:20260113T185414Z
UID:103698-1768737600-1772643600@maturango.org
SUMMARY:Mark Pahuta’s Photo Exhibit “Ridgecrest and the Eastern Sierra”
DESCRIPTION:Still photographs of Ridgecrest and the local area.\nA photographic exhibit of current locations from the viewpoint of a photographer.\nMark received a B.A. in History at Humboldt State University and an M.F.A. in Cinema at the University of Southern CA. A filmmaker and still photographer\, he came to the Indian Wells Valley in 1976 for a career of more than 40 years at China Lake in the Film and Video Branch. Many of his photographs are in the permanent collection of the Maturango Museum. The Museum has also published his audiovisual productions\, “Between Two Worlds: Rock Art of the Cosos” and “Indian Wells Valley: Somewhere on the Edge of Nowhere. Mark has created numerous video productions for other organizations\, including the Ridgecrest Chamber of Commerce. The Museum has published two books\, “Ridgecrest Retrospective” and “High Desert Double Exposure” with Mark as photographer. Recently\, Mark Pahuta’s “Hidden Ridgecrest” video series has been very well enjoyed.
URL:https://maturango.org/event/mark-pahutas-photo-exhibit-ridgecrest-2/
LOCATION:Maturango Museum Coso Room\, 100 E Las Flores Ave\, Ridgecrest\, CA\, 93555\, United States
ORGANIZER;CN="Maturango Museum":MAILTO:info@maturango.org
END:VEVENT
BEGIN:VEVENT
DTSTART;TZID=America/Los_Angeles:20260301T130000
DTEND;TZID=America/Los_Angeles:20260301T140000
DTSTAMP:20260421T031502
CREATED:20260301T070206Z
LAST-MODIFIED:20260301T195357Z
UID:103914-1772370000-1772373600@maturango.org
SUMMARY:Maturango Museum’s Annual Meeting
DESCRIPTION:Gather with your friends at the Museum\, meet our new Board members and our Staff. \nWe hope to see you there! \n2025 Annual Report
URL:https://maturango.org/event/maturango-museums-annual-meeting/
END:VEVENT
END:VCALENDAR