BEGIN:VCALENDAR
VERSION:2.0
PRODID:-//Maturango Museum - ECPv6.15.20//NONSGML v1.0//EN
CALSCALE:GREGORIAN
METHOD:PUBLISH
X-WR-CALNAME:Maturango Museum
X-ORIGINAL-URL:https://maturango.org
X-WR-CALDESC:Events for Maturango Museum
REFRESH-INTERVAL;VALUE=DURATION:PT1H
X-Robots-Tag:noindex
X-PUBLISHED-TTL:PT1H
BEGIN:VTIMEZONE
TZID:America/Los_Angeles
BEGIN:DAYLIGHT
TZOFFSETFROM:-0800
TZOFFSETTO:-0700
TZNAME:PDT
DTSTART:20240310T100000
END:DAYLIGHT
BEGIN:STANDARD
TZOFFSETFROM:-0700
TZOFFSETTO:-0800
TZNAME:PST
DTSTART:20241103T090000
END:STANDARD
BEGIN:DAYLIGHT
TZOFFSETFROM:-0800
TZOFFSETTO:-0700
TZNAME:PDT
DTSTART:20250309T100000
END:DAYLIGHT
BEGIN:STANDARD
TZOFFSETFROM:-0700
TZOFFSETTO:-0800
TZNAME:PST
DTSTART:20251102T090000
END:STANDARD
BEGIN:DAYLIGHT
TZOFFSETFROM:-0800
TZOFFSETTO:-0700
TZNAME:PDT
DTSTART:20260308T100000
END:DAYLIGHT
BEGIN:STANDARD
TZOFFSETFROM:-0700
TZOFFSETTO:-0800
TZNAME:PST
DTSTART:20261101T090000
END:STANDARD
END:VTIMEZONE
BEGIN:VEVENT
DTSTART;TZID=America/Los_Angeles:20250914T140000
DTEND;TZID=America/Los_Angeles:20250914T160000
DTSTAMP:20260421T210834
CREATED:20250828T053134Z
LAST-MODIFIED:20250903T184959Z
UID:102643-1757858400-1757865600@maturango.org
SUMMARY:Open Studio Artist’s Group Exhibit Opening Reception
DESCRIPTION:
URL:https://maturango.org/event/open-studio-artists-group-exhibit-opening-reception/
LOCATION:Maturango Museum Coso Room\, 100 E Las Flores Ave\, Ridgecrest\, CA\, 93555\, United States
CATEGORIES:Museum Events
END:VEVENT
END:VCALENDAR