BEGIN:VCALENDAR
VERSION:2.0
PRODID:-//Maturango Museum - ECPv6.15.20//NONSGML v1.0//EN
CALSCALE:GREGORIAN
METHOD:PUBLISH
X-ORIGINAL-URL:https://maturango.org
X-WR-CALDESC:Events for Maturango Museum
REFRESH-INTERVAL;VALUE=DURATION:PT1H
X-Robots-Tag:noindex
X-PUBLISHED-TTL:PT1H
BEGIN:VTIMEZONE
TZID:America/Los_Angeles
BEGIN:DAYLIGHT
TZOFFSETFROM:-0800
TZOFFSETTO:-0700
TZNAME:PDT
DTSTART:20240310T100000
END:DAYLIGHT
BEGIN:STANDARD
TZOFFSETFROM:-0700
TZOFFSETTO:-0800
TZNAME:PST
DTSTART:20241103T090000
END:STANDARD
BEGIN:DAYLIGHT
TZOFFSETFROM:-0800
TZOFFSETTO:-0700
TZNAME:PDT
DTSTART:20250309T100000
END:DAYLIGHT
BEGIN:STANDARD
TZOFFSETFROM:-0700
TZOFFSETTO:-0800
TZNAME:PST
DTSTART:20251102T090000
END:STANDARD
BEGIN:DAYLIGHT
TZOFFSETFROM:-0800
TZOFFSETTO:-0700
TZNAME:PDT
DTSTART:20260308T100000
END:DAYLIGHT
BEGIN:STANDARD
TZOFFSETFROM:-0700
TZOFFSETTO:-0800
TZNAME:PST
DTSTART:20261101T090000
END:STANDARD
END:VTIMEZONE
BEGIN:VEVENT
DTSTART;TZID=America/Los_Angeles:20251025T163000
DTEND;TZID=America/Los_Angeles:20251025T220000
DTSTAMP:20260421T192458
CREATED:20250827T233405Z
LAST-MODIFIED:20250905T200833Z
UID:102626-1761409800-1761429600@maturango.org
SUMMARY:Annual Dinner and Auction 2025
DESCRIPTION:Maturango Museum 2025\nAnnual Auction and Dinner\nSaturday\, October 25\nKerr McGee Center\nDoors open at 4:30pm\nMake a difference…\nand have a great time doing it!\nSponsorships available!\nSponsor pamphlet Auction 2025x
URL:https://maturango.org/event/annual-dinner-and-auction/
LOCATION:Kerr McGee Center\, 100 W California Ave\,\, Ridgecrest\, CA\, 93555\, United States
CATEGORIES:Fundraiser Events,Museum Events
ATTACH;FMTTYPE=image/jpeg:https://maturango.org/wp-content/uploads/2025/08/IMG_7516.jpg
ORGANIZER;CN="Maturango Museum":MAILTO:info@maturango.org
END:VEVENT
END:VCALENDAR