BEGIN:VCALENDAR
VERSION:2.0
PRODID:-//Maturango Museum - ECPv6.15.20//NONSGML v1.0//EN
CALSCALE:GREGORIAN
METHOD:PUBLISH
X-WR-CALNAME:Maturango Museum
X-ORIGINAL-URL:https://maturango.org
X-WR-CALDESC:Events for Maturango Museum
REFRESH-INTERVAL;VALUE=DURATION:PT1H
X-Robots-Tag:noindex
X-PUBLISHED-TTL:PT1H
BEGIN:VTIMEZONE
TZID:America/Los_Angeles
BEGIN:DAYLIGHT
TZOFFSETFROM:-0800
TZOFFSETTO:-0700
TZNAME:PDT
DTSTART:20240310T100000
END:DAYLIGHT
BEGIN:STANDARD
TZOFFSETFROM:-0700
TZOFFSETTO:-0800
TZNAME:PST
DTSTART:20241103T090000
END:STANDARD
BEGIN:DAYLIGHT
TZOFFSETFROM:-0800
TZOFFSETTO:-0700
TZNAME:PDT
DTSTART:20250309T100000
END:DAYLIGHT
BEGIN:STANDARD
TZOFFSETFROM:-0700
TZOFFSETTO:-0800
TZNAME:PST
DTSTART:20251102T090000
END:STANDARD
BEGIN:DAYLIGHT
TZOFFSETFROM:-0800
TZOFFSETTO:-0700
TZNAME:PDT
DTSTART:20260308T100000
END:DAYLIGHT
BEGIN:STANDARD
TZOFFSETFROM:-0700
TZOFFSETTO:-0800
TZNAME:PST
DTSTART:20261101T090000
END:STANDARD
END:VTIMEZONE
BEGIN:VEVENT
DTSTART;TZID=America/Los_Angeles:20251228T140000
DTEND;TZID=America/Los_Angeles:20251228T150000
DTSTAMP:20260421T154641
CREATED:20251206T180958Z
LAST-MODIFIED:20251206T180958Z
UID:103504-1766930400-1766934000@maturango.org
SUMMARY:Video Screening: Hidden Ridgecrest 7
DESCRIPTION:This upcoming video presentation features several engaging stories\, with the central narrative focusing on the history of local fire departments and the experience of serving as a volunteer firefighter. This primary story is inspired by the Historical Society publication by Tex Hoppus\, A History of Fire Stations in the Indian Wells Valley. \nIn addition to the main feature the program includes a few unexpected stories\, some even introduced by “surprise presenters.” \nThe video runs just under one hour. Producers Mark Pahuta and John Daly will be in attendance to offer brief remarks before the screening and to answer audience questions afterward. \nAdmission is free however\, seating is limited.
URL:https://maturango.org/event/video-screening-hidden-ridgecrest-7/
LOCATION:CA
CATEGORIES:Museum Events
END:VEVENT
END:VCALENDAR