BEGIN:VCALENDAR
VERSION:2.0
PRODID:-//Maturango Museum - ECPv6.15.20//NONSGML v1.0//EN
CALSCALE:GREGORIAN
METHOD:PUBLISH
X-ORIGINAL-URL:https://maturango.org
X-WR-CALDESC:Events for Maturango Museum
REFRESH-INTERVAL;VALUE=DURATION:PT1H
X-Robots-Tag:noindex
X-PUBLISHED-TTL:PT1H
BEGIN:VTIMEZONE
TZID:America/Los_Angeles
BEGIN:DAYLIGHT
TZOFFSETFROM:-0800
TZOFFSETTO:-0700
TZNAME:PDT
DTSTART:20240310T100000
END:DAYLIGHT
BEGIN:STANDARD
TZOFFSETFROM:-0700
TZOFFSETTO:-0800
TZNAME:PST
DTSTART:20241103T090000
END:STANDARD
BEGIN:DAYLIGHT
TZOFFSETFROM:-0800
TZOFFSETTO:-0700
TZNAME:PDT
DTSTART:20250309T100000
END:DAYLIGHT
BEGIN:STANDARD
TZOFFSETFROM:-0700
TZOFFSETTO:-0800
TZNAME:PST
DTSTART:20251102T090000
END:STANDARD
BEGIN:DAYLIGHT
TZOFFSETFROM:-0800
TZOFFSETTO:-0700
TZNAME:PDT
DTSTART:20260308T100000
END:DAYLIGHT
BEGIN:STANDARD
TZOFFSETFROM:-0700
TZOFFSETTO:-0800
TZNAME:PST
DTSTART:20261101T090000
END:STANDARD
END:VTIMEZONE
BEGIN:VEVENT
DTSTART;VALUE=DATE:20251018
DTEND;VALUE=DATE:20251019
DTSTAMP:20260421T173611
CREATED:20250903T221103Z
LAST-MODIFIED:20250903T221103Z
UID:102650-1760745600-1760831999@maturango.org
SUMMARY:Field Trip to Devil’s Punchbowl
DESCRIPTION:Maturango Museum Field Trip to Devil’s Punchbowl Natural Area\nSaturday\, October 18\, 10:30am – 2:30pm\nNestled in the San Gabriel Mountains\, this stunning\ngeological wonder offers a unique opportunity to explore\ndramatic rock formations\, vibrant desert landscapes\, and the\ndynamic forces that shaped this region.\nOur adventure begins at 10:30 am at the Devil’s Punchbowl\nNature Center near Pearblossom\, Southern California. We’ll\nenjoy a presentation on the geology and history of the\nPunchbowl at the scenic View Point. Learn about the tectonic forces and erosion that created the\nPunchbowl’s iconic tilted sandstone layers and rugged canyons.\nFollowing the presentation\, we’ll embark on a guided one-mile loop hike into the Punchbowl canyon\,\noffering breathtaking views of the striking rock formations and surrounding desert and mountain terrain.\nThe trail features moderate inclines and rocky paths\, so sturdy hiking shoes and perhaps walking sticks are\nrecommended.\nWe’ll wrap up the day by 2:30 pm\, leaving time to enjoy the scenic beauty of the area or relax at the\nNature Center.\nWhat to Bring:\n Comfortable hiking shoes\n Water bottle (at least 1 liter)\n Sunscreen and hat\n Light layers for cool mornings and warm\nafternoons\n Snacks for the trail\nThis family-friendly trip is perfect for geology enthusiasts\,\nhikers\, and anyone eager to discover the natural beauty of the Devil’s Punchbowl. Don’t miss this chance\nto explore one of Southern California’s most remarkable landscapes!\nBuy tickets on the museum website maturango.org/events The cost is $35 for museum members ($60\nfor 2 members)\, $45 nonmembers ($80 for 2). Kids under 18 are free.\nCancellation Policy: If the Museum cancels your trip\, you will be given a full refund or you may transfer\nthe money to a different trip. No cash refunds will be given if you cancel.\nHoward McCauley will send out an update and details to those who’ve registered a couple of days before\nthe trip.
URL:https://maturango.org/event/field-trip-to-devils-punchbowl/
LOCATION:CA
CATEGORIES:Tours and Trips
ATTACH;FMTTYPE=image/jpeg:https://maturango.org/wp-content/uploads/2025/09/IMG_8586.jpg
END:VEVENT
END:VCALENDAR