BEGIN:VCALENDAR
VERSION:2.0
PRODID:-//Maturango Museum - ECPv6.15.20//NONSGML v1.0//EN
CALSCALE:GREGORIAN
METHOD:PUBLISH
X-ORIGINAL-URL:https://maturango.org
X-WR-CALDESC:Events for Maturango Museum
REFRESH-INTERVAL;VALUE=DURATION:PT1H
X-Robots-Tag:noindex
X-PUBLISHED-TTL:PT1H
BEGIN:VTIMEZONE
TZID:America/Los_Angeles
BEGIN:DAYLIGHT
TZOFFSETFROM:-0800
TZOFFSETTO:-0700
TZNAME:PDT
DTSTART:20230312T100000
END:DAYLIGHT
BEGIN:STANDARD
TZOFFSETFROM:-0700
TZOFFSETTO:-0800
TZNAME:PST
DTSTART:20231105T090000
END:STANDARD
BEGIN:DAYLIGHT
TZOFFSETFROM:-0800
TZOFFSETTO:-0700
TZNAME:PDT
DTSTART:20240310T100000
END:DAYLIGHT
BEGIN:STANDARD
TZOFFSETFROM:-0700
TZOFFSETTO:-0800
TZNAME:PST
DTSTART:20241103T090000
END:STANDARD
BEGIN:DAYLIGHT
TZOFFSETFROM:-0800
TZOFFSETTO:-0700
TZNAME:PDT
DTSTART:20250309T100000
END:DAYLIGHT
BEGIN:STANDARD
TZOFFSETFROM:-0700
TZOFFSETTO:-0800
TZNAME:PST
DTSTART:20251102T090000
END:STANDARD
END:VTIMEZONE
BEGIN:VEVENT
DTSTART;TZID=America/Los_Angeles:20240928T170000
DTEND;TZID=America/Los_Angeles:20240928T213000
DTSTAMP:20260422T091034
CREATED:20240701T223615Z
LAST-MODIFIED:20240730T181250Z
UID:99745-1727542800-1727559000@maturango.org
SUMMARY:Maturango Museum 2024 Annual Auction and Dinner
DESCRIPTION:Maturango Museum 2024 \nAnnual Auction and Dinner\n       Saturday\, September 28\nKerr-McGee Center Doors open at 5:00 p.m.\nMake a difference…\nand have a great time doing it! \nSponsor pamphlet Auction 2024fx
URL:https://maturango.org/event/maturango-museum-2024-annual-auction-and-dinner/
LOCATION:Kerr McGee Center\, 100 W California Ave\,\, Ridgecrest\, CA\, 93555\, United States
ATTACH;FMTTYPE=image/png:https://maturango.org/wp-content/uploads/2024/04/MuseumLogobrown-e1713375885877.png
ORGANIZER;CN="Maturango Museum":MAILTO:info@maturango.org
END:VEVENT
END:VCALENDAR