BEGIN:VCALENDAR
VERSION:2.0
PRODID:-//Maturango Museum - ECPv6.15.20//NONSGML v1.0//EN
CALSCALE:GREGORIAN
METHOD:PUBLISH
X-WR-CALNAME:Maturango Museum
X-ORIGINAL-URL:https://maturango.org
X-WR-CALDESC:Events for Maturango Museum
REFRESH-INTERVAL;VALUE=DURATION:PT1H
X-Robots-Tag:noindex
X-PUBLISHED-TTL:PT1H
BEGIN:VTIMEZONE
TZID:America/Los_Angeles
BEGIN:DAYLIGHT
TZOFFSETFROM:-0800
TZOFFSETTO:-0700
TZNAME:PDT
DTSTART:20240310T100000
END:DAYLIGHT
BEGIN:STANDARD
TZOFFSETFROM:-0700
TZOFFSETTO:-0800
TZNAME:PST
DTSTART:20241103T090000
END:STANDARD
BEGIN:DAYLIGHT
TZOFFSETFROM:-0800
TZOFFSETTO:-0700
TZNAME:PDT
DTSTART:20250309T100000
END:DAYLIGHT
BEGIN:STANDARD
TZOFFSETFROM:-0700
TZOFFSETTO:-0800
TZNAME:PST
DTSTART:20251102T090000
END:STANDARD
BEGIN:DAYLIGHT
TZOFFSETFROM:-0800
TZOFFSETTO:-0700
TZNAME:PDT
DTSTART:20260308T100000
END:DAYLIGHT
BEGIN:STANDARD
TZOFFSETFROM:-0700
TZOFFSETTO:-0800
TZNAME:PST
DTSTART:20261101T090000
END:STANDARD
END:VTIMEZONE
BEGIN:VEVENT
DTSTART;VALUE=DATE:20250601
DTEND;VALUE=DATE:20250802
DTSTAMP:20260421T133106
CREATED:20250523T222231Z
LAST-MODIFIED:20250716T192321Z
UID:101480-1748736000-1754092799@maturango.org
SUMMARY:Matching Funds and Membership Drive Extended!! Donor request and infusion!!
DESCRIPTION:🎉 It’s Match Time! Double the Love for the Maturango Museum! 🏜️\nGuess what? We’ve got an amazing opportunity — thanks to generous donors\, every dollar you give will be matched up to $25\,000! 🙌 \nThat’s right — your $25 becomes $50. Your $100? Now it’s $200. Boom. 💥 \nYour donation helps us keep the lights on (literally!)\, care for exhibits\, run awesome programs\, and continue sharing the wild\, wonderful story of the Northern Mojave Desert — art\, science\, rattlesnakes and all! 🖼️🦂🪨 \n🎯 Our goal: Raise the funds we need to keep things running smoothly\n📅 Deadline: Extended to August 1!!\n💻 Donate here: \nhttps://maturango.org/charitable-giving/\nWe do the dusty work — you make the magic happen. Let’s keep the Maturango Museum going strong! 💛 \n#DoubleYourDesertLove #MaturangoMatch #MuseumMagic #SupportLocalHistory
URL:https://maturango.org/event/matching-funds-and-membership-drive/
ATTACH;FMTTYPE=image/jpeg:https://maturango.org/wp-content/uploads/2024/05/GRAPHIC_matching_donation2-copy.jpg
ORGANIZER;CN="Maturango Museum":MAILTO:info@maturango.org
END:VEVENT
BEGIN:VEVENT
DTSTART;TZID=America/Los_Angeles:20250629T100000
DTEND;TZID=America/Los_Angeles:20250825T170000
DTSTAMP:20260421T133106
CREATED:20250619T225757Z
LAST-MODIFIED:20250627T194547Z
UID:101710-1751191200-1756141200@maturango.org
SUMMARY:Warner V. Graves III: An Art Exhibit  "Other Worlds"
DESCRIPTION:Warner V. Graves III’ Art Exhibit: “Other Worlds” \n  \n“The landscapes here have always been a source of inspiration for me\,  \nmy work reflects a deep connection to place and history.” Warner \n  \nWarner V. Graves is an artist known for his contemporary take on the rugged beauty of the California desert. Using bold color\, broad brush strokes\, line and texture and reacting to intuitive impulses\, the work unfolds as an exploration of the natural world and its lore. From a vintage stone cabin in Snow Creek\, (a small secluded village at the foot of Mt. San Jacinto)\, Warner creates paintings of simplified and stylized forms to convey the monumentality and spiritual awe of the surrounding desert wilderness. The work is strongly rooted to the various locations in and around the arid regions of California and reflects interest ranging from historic travel posters\, the natural sciences\, hiking\, and getting lost in the desert. \nThe playful use of color is a direct reference to the Canadian Group of Seven. Local early 20th century artist Agnes Pelton and her associated Taos School of Transcendental Art continues to be a source of inspiration. With the current series Warner hopes the viewer finds the beauty in the depiction of the desert environment but is also challenged to see the natural world not as a static form but as a living entity\, imbued with vitality and flux. \nThis fantastic exhibit will be in the Coso Room through August 24. \n 
URL:https://maturango.org/event/warner-graves-an-art-exhibit-other-worlds/
LOCATION:Maturango Museum Coso Room\, 100 E Las Flores Ave\, Ridgecrest\, CA\, 93555\, United States
ATTACH;FMTTYPE=image/jpeg:https://maturango.org/wp-content/uploads/2025/06/IMG_7845-2.jpeg
ORGANIZER;CN="Maturango Museum":MAILTO:info@maturango.org
END:VEVENT
BEGIN:VEVENT
DTSTART;TZID=America/Los_Angeles:20250809T070000
DTEND;TZID=America/Los_Angeles:20250809T170000
DTSTAMP:20260421T133106
CREATED:20250728T023450Z
LAST-MODIFIED:20250807T235225Z
UID:102332-1754722800-1754758800@maturango.org
SUMMARY:Kern Plateau Meadows Field Trip
DESCRIPTION: Another! Kern Plateau Meadows Field Trip with Anne Dumas\nLet’s head to the high country! Join the Maturango Museum on a tour of several meadows on the Kern Plateau. \nThe Kern Plateau is a relatively flat area between 7\,500 and 8\,500 feet in elevation. There are about 30 meadows with streams and rich soil abundant with plants and flowers. Some years\, there are lots of frogs! \nIt will be fun to explore in the cool mountain air. The meadows we could visit include: Troy\, Powell\, Granite Knob\, Paloma\, Bonita and Osa. \nMeet at the museum at 7am. You will be required to sign a liability waiver. Great trip for kids and leashed well-behaved dogs. \nBuy tickets on the museum website maturango.org/events   The cost is $35 for museum members ($60 for 2 members)\, $45 nonmembers ($80 for 2). Kids under 18 are free. \nCancellation Policy:  If the Museum cancels your trip\, you will be given a full refund or you may transfer the money to a different trip.  No cash refunds will be given if you cancel. \nCarpooling is encouraged\, but not required. For those driving\, be sure your vehicle is in good repair and that it has a full tank of gas. We will be driving approximately 200 miles round trip on our day long adventure. We will return to the museum in the evening. (Or you could drive up and over Sherman Pass and head home through Kernville.) \nBe sure to bring a picnic lunch and plenty of water. Once we pass the Kennedy Meadows General Store\, there is no place to buy food or drinks. Also\, if you like\, bring a folding chair\, a rain jacket\, hiking poles\, bug spray\, hat and sunscreen.
URL:https://maturango.org/event/kern-plateau-meadows-field-trip-2/
ATTACH;FMTTYPE=image/jpeg:https://maturango.org/wp-content/uploads/2018/05/Kern-Meadow-2-e1751064766696.jpg
ORGANIZER;CN="Maturango Museum":MAILTO:info@maturango.org
END:VEVENT
BEGIN:VEVENT
DTSTART;TZID=America/Los_Angeles:20250831T100000
DTEND;TZID=America/Los_Angeles:20251027T170000
DTSTAMP:20260421T133106
CREATED:20250728T142458Z
LAST-MODIFIED:20250903T223709Z
UID:102334-1756634400-1761584400@maturango.org
SUMMARY:Open Studio Tour Gallery Exhibit
DESCRIPTION:Maturango Museum Open Studio Tour 2025\n Each artist will also have a sample of their artwork displayed in the Open Studio Tour Exhibit (August 31 – Oct 27) at the Museum and be a part of the Artists’ Opening Reception (Sunday September 14\, 2-4pm).\n 
URL:https://maturango.org/event/open-studio-tour/
LOCATION:Maturango Museum\, 100 E Las Flores Ave\, Ridgecrest\, CA\, 93555\, United States
ATTACH;FMTTYPE=image/jpeg:https://maturango.org/wp-content/uploads/2023/08/image001.jpg
ORGANIZER;CN="Maturango Museum":MAILTO:info@maturango.org
END:VEVENT
BEGIN:VEVENT
DTSTART;TZID=America/Los_Angeles:20250831T140000
DTEND;TZID=America/Los_Angeles:20250831T170000
DTSTAMP:20260421T133106
CREATED:20250728T142300Z
LAST-MODIFIED:20250728T142300Z
UID:102352-1756648800-1756659600@maturango.org
SUMMARY:Hidden Ridgecrest 5
DESCRIPTION:The video will share some fun facts….\nDid you know that the widening of China Lake Boulevard to 4 lanes in 1955 was one of Ridgecrest’s largest community celebrations ever?\nDid you know that on the north range of China Lake there exists a mysterious rock shelter that may or may not be a cavalry fort from the 1800s?\nDid you know that most names in Ridgecrest come from several sources and that many like “Downs\,” “Crumbville\,” and “Peg\,” are named after people that either had nothing to do with the area\, were misspelled\, or were Red Mountain prostitutes?\nThese and other gripping questions will be answered in this 5th version of “Hidden Ridgecrest.” Producers\, Mark Pahuta and John Daly\, will be on hand to introduce the video and to answer any questions after the screening. As usual the event is free\, but seating is limited. The video runs about one hour.
URL:https://maturango.org/event/hidden-ridgecrest-5/
END:VEVENT
END:VCALENDAR