BEGIN:VCALENDAR
VERSION:2.0
PRODID:-//Maturango Museum - ECPv6.15.20//NONSGML v1.0//EN
CALSCALE:GREGORIAN
METHOD:PUBLISH
X-WR-CALNAME:Maturango Museum
X-ORIGINAL-URL:https://maturango.org
X-WR-CALDESC:Events for Maturango Museum
REFRESH-INTERVAL;VALUE=DURATION:PT1H
X-Robots-Tag:noindex
X-PUBLISHED-TTL:PT1H
BEGIN:VTIMEZONE
TZID:America/Los_Angeles
BEGIN:DAYLIGHT
TZOFFSETFROM:-0800
TZOFFSETTO:-0700
TZNAME:PDT
DTSTART:20240310T100000
END:DAYLIGHT
BEGIN:STANDARD
TZOFFSETFROM:-0700
TZOFFSETTO:-0800
TZNAME:PST
DTSTART:20241103T090000
END:STANDARD
BEGIN:DAYLIGHT
TZOFFSETFROM:-0800
TZOFFSETTO:-0700
TZNAME:PDT
DTSTART:20250309T100000
END:DAYLIGHT
BEGIN:STANDARD
TZOFFSETFROM:-0700
TZOFFSETTO:-0800
TZNAME:PST
DTSTART:20251102T090000
END:STANDARD
BEGIN:DAYLIGHT
TZOFFSETFROM:-0800
TZOFFSETTO:-0700
TZNAME:PDT
DTSTART:20260308T100000
END:DAYLIGHT
BEGIN:STANDARD
TZOFFSETFROM:-0700
TZOFFSETTO:-0800
TZNAME:PST
DTSTART:20261101T090000
END:STANDARD
END:VTIMEZONE
BEGIN:VEVENT
DTSTART;TZID=America/Los_Angeles:20250831T100000
DTEND;TZID=America/Los_Angeles:20251027T170000
DTSTAMP:20260421T115307
CREATED:20250728T142458Z
LAST-MODIFIED:20250903T223709Z
UID:102334-1756634400-1761584400@maturango.org
SUMMARY:Open Studio Tour Gallery Exhibit
DESCRIPTION:Maturango Museum Open Studio Tour 2025\n Each artist will also have a sample of their artwork displayed in the Open Studio Tour Exhibit (August 31 – Oct 27) at the Museum and be a part of the Artists’ Opening Reception (Sunday September 14\, 2-4pm).\n 
URL:https://maturango.org/event/open-studio-tour/
LOCATION:Maturango Museum\, 100 E Las Flores Ave\, Ridgecrest\, CA\, 93555\, United States
ATTACH;FMTTYPE=image/jpeg:https://maturango.org/wp-content/uploads/2023/08/image001.jpg
ORGANIZER;CN="Maturango Museum":MAILTO:info@maturango.org
END:VEVENT
BEGIN:VEVENT
DTSTART;TZID=America/Los_Angeles:20250912T103000
DTEND;TZID=America/Los_Angeles:20250912T113000
DTSTAMP:20260421T115307
CREATED:20250908T221337Z
LAST-MODIFIED:20250908T221610Z
UID:102758-1757673000-1757676600@maturango.org
SUMMARY:Children's Hour
DESCRIPTION:Children’s Hour: Friday September 12\, 10:30 – 11:30 am\nOur Animal Neighbors in the Mountains\n    \nThrough story books and action songs\, helped along by docents\, puppets and imagination\, there will be “visits” by chipmunks\, raccoons\, bobcats\, bears and even a few skunks!  A salamander may slip in there\, too.  One of the stories\, “The Blackberry Banquet” by local author Terry Pierce\, is sure to be enjoyed by all!  The children are always excited to see taxidermied animals up close on the Discovery Table and a craft activity will finish the hour!\nWe hope to see you for this free\, educational and monthly event!  Information about Children’s Hour can be found on maturango.org/events/ or by calling 760-375-6900.
URL:https://maturango.org/event/childrens-hour/
LOCATION:Maturango Museum Coso Room\, 100 E Las Flores Ave\, Ridgecrest\, CA\, 93555\, United States
ATTACH;FMTTYPE=image/jpeg:https://maturango.org/wp-content/uploads/2025/09/unnamed.jpg
ORGANIZER;CN="Maturango Museum":MAILTO:info@maturango.org
END:VEVENT
BEGIN:VEVENT
DTSTART;TZID=America/Los_Angeles:20250913T110000
DTEND;TZID=America/Los_Angeles:20250913T140000
DTSTAMP:20260421T115307
CREATED:20250828T055953Z
LAST-MODIFIED:20250903T224853Z
UID:102641-1757761200-1757772000@maturango.org
SUMMARY:Free Second Saturday
DESCRIPTION:Our upcoming Free Second Saturday will feature guest presenters Mike and Linda Thompson\, sharing the art of flintknapping. Mike\, an accomplished flintknapper\, will display some of the remarkable points he has created. Following the demonstration\, participants will have the opportunity to craft their own arrowheads using Sculpey polymer clay\, attach them to small shafts\, and decorate their creations.
URL:https://maturango.org/event/free-second-saturday/
LOCATION:Maturango Museum Coso Room\, 100 E Las Flores Ave\, Ridgecrest\, CA\, 93555\, United States
CATEGORIES:Museum Events
END:VEVENT
BEGIN:VEVENT
DTSTART;TZID=America/Los_Angeles:20250914T140000
DTEND;TZID=America/Los_Angeles:20250914T160000
DTSTAMP:20260421T115307
CREATED:20250828T053134Z
LAST-MODIFIED:20250903T184959Z
UID:102643-1757858400-1757865600@maturango.org
SUMMARY:Open Studio Artist’s Group Exhibit Opening Reception
DESCRIPTION:
URL:https://maturango.org/event/open-studio-artists-group-exhibit-opening-reception/
LOCATION:Maturango Museum Coso Room\, 100 E Las Flores Ave\, Ridgecrest\, CA\, 93555\, United States
CATEGORIES:Museum Events
END:VEVENT
BEGIN:VEVENT
DTSTART;VALUE=DATE:20250920
DTEND;VALUE=DATE:20260101
DTSTAMP:20260421T115307
CREATED:20250920T205417Z
LAST-MODIFIED:20250920T210131Z
UID:102907-1758326400-1767225599@maturango.org
SUMMARY:Maturango Status Presentation 2025
DESCRIPTION:Maturango Status Presentation 9-19-25
URL:https://maturango.org/event/maturango-status-presentation-2025/
ATTACH;FMTTYPE=image/jpeg:https://maturango.org/wp-content/uploads/2025/02/IMG_6622.jpg
END:VEVENT
BEGIN:VEVENT
DTSTART;TZID=America/Los_Angeles:20250920T100000
DTEND;TZID=America/Los_Angeles:20250920T120000
DTSTAMP:20260421T115307
CREATED:20250828T054842Z
LAST-MODIFIED:20250903T223108Z
UID:102648-1758362400-1758369600@maturango.org
SUMMARY:Celebration of the September Equinox
DESCRIPTION:The September equinox is approaching! The word ‘equinox’ comes from the Latin words ‘aequus\,’ meaning equal\, and ‘nox\,’ meaning night. Therefore\, ‘equinox’ translates to ‘equal night’ in Latin\, symbolizing the nearly equal length of day and night. This marks the transition from longer summer days to shorter winter days for us in the Northern Hemisphere. Days from now until the winter solstice grow shorter each day\, and the nights grow longer. The winter solstice marks a turning point where the days begin to grow longer and the nights shorter. \nAt the Maturango Museum\, we enjoy celebrating the four times each year when the Earth and sun experience a special relationship: the equinoxes and solstices. This connection helps us stay in tune with the changing seasons. \nJoin us as we create celestial greeting cards in the style of “Junk Journaling”. A Junk Journal card is a handmade creation that uses various papers\, pockets\, and tags to craft an engaging greeting card with spaces to tuck in a handmade note or greeting. Arrive by 10am to give yourself plenty of time to explore the different options available for your card-making experience. \nAs a bonus\, the China Lake Astronomical Society may bring their solar scopes for visitors to view the sun safely. Members’ participation depends on their schedule and the weather.
URL:https://maturango.org/event/celebration-of-the-september-equinox/
LOCATION:Maturango Museum Coso Room\, 100 E Las Flores Ave\, Ridgecrest\, CA\, 93555\, United States
CATEGORIES:Museum Events
ATTACH;FMTTYPE=image/png:https://maturango.org/wp-content/uploads/2025/08/sun_Moon_watercolor-copy.png
END:VEVENT
BEGIN:VEVENT
DTSTART;TZID=America/Los_Angeles:20250927T100000
DTEND;TZID=America/Los_Angeles:20250928T160000
DTSTAMP:20260421T115307
CREATED:20250828T054225Z
LAST-MODIFIED:20250828T054225Z
UID:102645-1758967200-1759075200@maturango.org
SUMMARY:Open Studio Tour weekend
DESCRIPTION:  \n“Art is not what you see\, but what you make others see.” – Edgar Degas \n  Join us for the Open Studio Tour on Saturday and Sunday\, September 27 & 28\, from 10 am to 4 pm each day. Discover the creativity of local artists in their own studios\, then see a special selection of their work featured in the Open Studio Tour Exhibit at the Museum (August 31 – October 27). Don’t miss the Artists’ Opening Reception on Sunday\, September 14\, from 2–4 pm\, where you can meet the artists and celebrate the start of this exciting showcase.
URL:https://maturango.org/event/open-studio-tour-weekend/
CATEGORIES:Museum Events
END:VEVENT
END:VCALENDAR